BEGIN:VCALENDAR
VERSION:2.0
PRODID:-//Hawthorne Christian Academy - ECPv6.15.7//NONSGML v1.0//EN
CALSCALE:GREGORIAN
METHOD:PUBLISH
X-ORIGINAL-URL:https://www.hca.org
X-WR-CALDESC:Events for Hawthorne Christian Academy
REFRESH-INTERVAL;VALUE=DURATION:PT1H
X-Robots-Tag:noindex
X-PUBLISHED-TTL:PT1H
BEGIN:VTIMEZONE
TZID:America/New_York
BEGIN:DAYLIGHT
TZOFFSETFROM:-0500
TZOFFSETTO:-0400
TZNAME:EDT
DTSTART:20250309T070000
END:DAYLIGHT
BEGIN:STANDARD
TZOFFSETFROM:-0400
TZOFFSETTO:-0500
TZNAME:EST
DTSTART:20251102T060000
END:STANDARD
BEGIN:DAYLIGHT
TZOFFSETFROM:-0500
TZOFFSETTO:-0400
TZNAME:EDT
DTSTART:20260308T070000
END:DAYLIGHT
BEGIN:STANDARD
TZOFFSETFROM:-0400
TZOFFSETTO:-0500
TZNAME:EST
DTSTART:20261101T060000
END:STANDARD
BEGIN:DAYLIGHT
TZOFFSETFROM:-0500
TZOFFSETTO:-0400
TZNAME:EDT
DTSTART:20270314T070000
END:DAYLIGHT
BEGIN:STANDARD
TZOFFSETFROM:-0400
TZOFFSETTO:-0500
TZNAME:EST
DTSTART:20271107T060000
END:STANDARD
END:VTIMEZONE
BEGIN:VEVENT
DTSTART;VALUE=DATE:20260522
DTEND;VALUE=DATE:20260524
DTSTAMP:20260419T154828
CREATED:20260410T041241Z
LAST-MODIFIED:20260410T041241Z
UID:12465-1779408000-1779494400@www.hca.org
SUMMARY:Academy Early Dismissal
DESCRIPTION:
URL:https://www.hca.org/event/academy-early-dismissal/
CATEGORIES:HCA Public Events Calendar
END:VEVENT
BEGIN:VEVENT
DTSTART;VALUE=DATE:20260525
DTEND;VALUE=DATE:20260527
DTSTAMP:20260419T154828
CREATED:20260413T045601Z
LAST-MODIFIED:20260413T045601Z
UID:12466-1779667200-1779753600@www.hca.org
SUMMARY:Academy Closed - Memorial Day
DESCRIPTION:
URL:https://www.hca.org/event/academy-closed-memorial-day/
CATEGORIES:HCA Public Events Calendar
END:VEVENT
BEGIN:VEVENT
DTSTART;TZID=America/New_York:20260529T080000
DTEND;TZID=America/New_York:20260529T203000
DTSTAMP:20260419T154828
CREATED:20260418T045642Z
LAST-MODIFIED:20260418T045642Z
UID:12470-1780041600-1780086600@www.hca.org
SUMMARY:Grades 8&11: Dorney Park Trip
DESCRIPTION:
URL:https://www.hca.org/event/grades-811-dorney-park-trip/
CATEGORIES:HCA Public Events Calendar
END:VEVENT
END:VCALENDAR